BEGIN:VCALENDAR
VERSION:2.0
PRODID:-//Comicon Adventures - Review, Discover and Compare 100&#039;s of Comic Conventions - ECPv6.15.20//NONSGML v1.0//EN
CALSCALE:GREGORIAN
METHOD:PUBLISH
X-WR-CALNAME:Comicon Adventures - Review, Discover and Compare 100&#039;s of Comic Conventions
X-ORIGINAL-URL:https://comiconadventures.com
X-WR-CALDESC:Events for Comicon Adventures - Review, Discover and Compare 100&#039;s of Comic Conventions
REFRESH-INTERVAL;VALUE=DURATION:PT1H
X-Robots-Tag:noindex
X-PUBLISHED-TTL:PT1H
BEGIN:VTIMEZONE
TZID:America/New_York
BEGIN:DAYLIGHT
TZOFFSETFROM:-0500
TZOFFSETTO:-0400
TZNAME:EDT
DTSTART:20180311T070000
END:DAYLIGHT
BEGIN:STANDARD
TZOFFSETFROM:-0400
TZOFFSETTO:-0500
TZNAME:EST
DTSTART:20181104T060000
END:STANDARD
BEGIN:DAYLIGHT
TZOFFSETFROM:-0500
TZOFFSETTO:-0400
TZNAME:EDT
DTSTART:20190310T070000
END:DAYLIGHT
BEGIN:STANDARD
TZOFFSETFROM:-0400
TZOFFSETTO:-0500
TZNAME:EST
DTSTART:20191103T060000
END:STANDARD
BEGIN:DAYLIGHT
TZOFFSETFROM:-0500
TZOFFSETTO:-0400
TZNAME:EDT
DTSTART:20200308T070000
END:DAYLIGHT
BEGIN:STANDARD
TZOFFSETFROM:-0400
TZOFFSETTO:-0500
TZNAME:EST
DTSTART:20201101T060000
END:STANDARD
END:VTIMEZONE
BEGIN:VEVENT
DTSTART;TZID=America/New_York:20190822T100000
DTEND;TZID=America/New_York:20190825T170000
DTSTAMP:20260424T222236
CREATED:20190430T051112Z
LAST-MODIFIED:20190430T051112Z
UID:8107-1566468000-1566752400@comiconadventures.com
SUMMARY:FanExpo Canada 2019
DESCRIPTION:Comic and Anime Convention \nOrganized by Informa Exhibitions \nFAN EXPO Canada is the largest Comics\, Sci-Fi\, Horror\, Anime\, and Gaming event in Canada and the 3rd largest Pop Culture event in North America. \nCelebrating its 24th year\, FAN EXPO Canada has grown from a small comic book convention attracting 1\,500 fans into a multi-faceted\, 4-day citywide event that attracts over 129\,000 people from around the world. The event provides a substantial multi-million dollar economic impact to the City of Toronto\, filling up hotels and restaurants throughout the duration of the Expo.” \nGuests: \nJason Momoa – Actor
URL:https://comiconadventures.com/event/fanexpo-canada-2019/
LOCATION:Metro Toronto Convention Centre\, 255 Front St W\, Toronto\, Ontario\, M5V 2W6\, Canada
CATEGORIES:Comic Conventions,Steampunk Conventions
ATTACH;FMTTYPE=image/jpeg:https://comiconadventures.com/wp-content/uploads/2019/04/FanExpo-Canada-2019.jpg
END:VEVENT
BEGIN:VEVENT
DTSTART;TZID=America/New_York:20190817T100000
DTEND;TZID=America/New_York:20190818T170000
DTSTAMP:20260424T222236
CREATED:20190430T050645Z
LAST-MODIFIED:20190430T050645Z
UID:8104-1566036000-1566147600@comiconadventures.com
SUMMARY:Railway to the Moon Steampunk Festival 2019
DESCRIPTION:Steampunk Event \nThe Railway to the Moon Steampunk Festival is New Hampshires #1 Steampunk festival! Featuring all day events and activities\, experience the uniqueness and thrill of steampunk with the vintage and historical Mount Washington Cog Railway as its backdrop! The event is Free to the Public with a optional paid special Steampunk Steam Train rides throughout the days. \nFeaturing over 20 vendors and performers\, the Railway to the Moon Festival is New Hampshire’s Premier Steampunk Festival! Visit us in your best steampunk garb and enjoy a day of entertainment\, unique and amazing vendors\, ongoing train operations & more! \nSpecial presentations by some of the biggest names in New England Steampunk will be going on all day long\, with plenty of opportunities to take the perfect steampunk photos and then some! Special festival merchandise will also be available so you can take home the perfect Railway to the Moon steampunk gift!
URL:https://comiconadventures.com/event/railway-to-the-moon-steampunk-festival-2019/
LOCATION:Mount Washington Cog Railway\, 3168 Base Station Rd.\, Bretton Woods\, NH\, Bretton Woods\, United States
CATEGORIES:Steampunk Conventions
ATTACH;FMTTYPE=image/jpeg:https://comiconadventures.com/wp-content/uploads/2019/04/Railway-to-the-Moon-Steampunk-Festival-2019.jpg
END:VEVENT
BEGIN:VEVENT
DTSTART;TZID=America/New_York:20190803T100000
DTEND;TZID=America/New_York:20190804T170000
DTSTAMP:20260424T222236
CREATED:20190426T065515Z
LAST-MODIFIED:20190512T234732Z
UID:7789-1564826400-1564938000@comiconadventures.com
SUMMARY:The Surrey Steampunk Convivial Summer 2019
DESCRIPTION:Steampunk Event \nWhat’s On? Ohhhh\, just Loads of stuff\, that’s what! \nLiterature\, Theatre\, Art Exhibitions\, Competitions\, Music\, Games and Sports: Battle Croquet\, Fling-a-Familiar Bazooka\, Splendid Teapot Racing\, Umbrella Fencing (Bumbershoot Baritsu)\, Tea Duelling\, Poetry\, Dancing\, Markets and Traders\, Sculptures\, talks\, workshops\, Miniature Battle Re-enactment\, Sythesisers\, Reptiles and Snakes\, A Monkey Bellboy\, Ostrich Racing \, Magic\, Corset Limbo dancing\, Enforced Ventriloquy\, Film projections\, Snail Racing … and much\, much more!
URL:https://comiconadventures.com/event/the-surrey-steampunk-convivial-2019/
LOCATION:The Royal Oak & Christchurch\, 90 Coombe Rd.\, New Maiden\, SU\, KT3 4RD\, United Kingdom
CATEGORIES:Steampunk Conventions
ATTACH;FMTTYPE=image/jpeg:https://comiconadventures.com/wp-content/uploads/2019/04/The-Surrey-Steampunk-Convivial-2019.jpg
END:VEVENT
BEGIN:VEVENT
DTSTART;TZID=America/New_York:20190729T100000
DTEND;TZID=America/New_York:20190729T170000
DTSTAMP:20260424T222236
CREATED:20190729T033312Z
LAST-MODIFIED:20190729T033312Z
UID:9161-1564394400-1564419600@comiconadventures.com
SUMMARY:Wild Wild West Steampunk Convention 2019
DESCRIPTION:Steampunk Event \nWild Wild West Steampunk Convention (WWWC) is America’s first and only Steampunk convention and festival that takes place in a western-themed town and amusement park. WWWC is the largest Western-style Steampunk Convention in the United States! \nAfter incredibly successful events since 2011 we are quite excited to be making WWWC8 larger and more amazing than ever before! \nGuests: \nDavid Stipes \nDarrell Stokes \nTobias McCurry
URL:https://comiconadventures.com/event/wild-wild-west-steampunk-convention-2019/
LOCATION:Old Tucson\, 201 Kinney Rd.\, Tucson\, AZ\, 85735\, United States
CATEGORIES:Steampunk Conventions
ATTACH;FMTTYPE=image/jpeg:https://comiconadventures.com/wp-content/uploads/2019/07/Wild-Wild-West-Steampunk-Convention-2019.jpeg
END:VEVENT
BEGIN:VEVENT
DTSTART;TZID=America/New_York:20190729T100000
DTEND;TZID=America/New_York:20190729T170000
DTSTAMP:20260424T222236
CREATED:20190729T021259Z
LAST-MODIFIED:20190729T021259Z
UID:9139-1564394400-1564419600@comiconadventures.com
SUMMARY:Kikori Con 2019
DESCRIPTION:Anime Convention \nOrganized by Monkey Paw Entertainment \nKikori Con is an American anime convention held in Flagstaff\, Arizona and organized by Monkey Paw Entertainment. The convention is held in February every year. It is currently hosted at the Little America Hotel Flagstaff. \nGuests: \nKyle Hebert – Voice Actor\nAustin Tindle – Voice Actor\nArmand Villavert Jr. – Artist
URL:https://comiconadventures.com/event/kikori-con-2019/
LOCATION:Little America Hotel\, 2515 E Butler Ave.\, Flagstaff\, AZ\, 86004\, United States
CATEGORIES:Anime Conventions,Steampunk Conventions
ATTACH;FMTTYPE=image/jpeg:https://comiconadventures.com/wp-content/uploads/2019/07/Kikori-Con-2019.jpeg
END:VEVENT
BEGIN:VEVENT
DTSTART;TZID=America/New_York:20190719T100000
DTEND;TZID=America/New_York:20190721T170000
DTSTAMP:20260424T222236
CREATED:20190426T044306Z
LAST-MODIFIED:20190426T044306Z
UID:7910-1563530400-1563728400@comiconadventures.com
SUMMARY:TrotCon 2019
DESCRIPTION:TV Convention with Toy programming \nOrganized by Dragon Adventures LLC \nGet your cogs and gears ready\, because it’s steampunk time. Airships\, steam engines\, futuristic retro tech\, so much brass! It’ll be a blast! We are celebrating our 8th year in 2019!
URL:https://comiconadventures.com/event/trotcon-2019/
LOCATION:Crowne Plaza Columbus North\, 6500 Doubletree Ave\, Columbus\, OH\, 43229\, United States
CATEGORIES:Steampunk Conventions
ATTACH;FMTTYPE=image/png:https://comiconadventures.com/wp-content/uploads/2019/04/TrotCon-2019.png
END:VEVENT
BEGIN:VEVENT
DTSTART;TZID=America/New_York:20190706T100000
DTEND;TZID=America/New_York:20190707T170000
DTSTAMP:20260424T222236
CREATED:20190422T034810Z
LAST-MODIFIED:20190422T034810Z
UID:7485-1562407200-1562518800@comiconadventures.com
SUMMARY:Steampunk Weekend at Bressingham 2019
DESCRIPTION:Steampunk Event \nBresSteam. A celebration of all things Steampunk. A festival of the future as Victorians may have imagined it. Splendid costume\, creativity\, imagination and invention. Amongst Bressingham’s magnificent collection of functioning Steam Engines.
URL:https://comiconadventures.com/event/steampunk-weekend-at-bressingham-2019/
LOCATION:Bressingham Steam & Gardens\, Low Rd.\, Bressingham\, BR\, IP22 2AA\, United Kingdom
CATEGORIES:Steampunk Conventions
ATTACH;FMTTYPE=image/jpeg:https://comiconadventures.com/wp-content/uploads/2019/04/Steampunk-Weekend-at-Bressingham-2019.jpg
END:VEVENT
BEGIN:VEVENT
DTSTART;TZID=America/New_York:20190607T100000
DTEND;TZID=America/New_York:20190609T170000
DTSTAMP:20260424T222236
CREATED:20190418T034305Z
LAST-MODIFIED:20190418T034305Z
UID:6927-1559901600-1560099600@comiconadventures.com
SUMMARY:Steampunk Con 2019
DESCRIPTION:Break out those top hats\, goggles and gears\, Steampunk Con is the next evolution in steampunk conventions!\nSteampunk is a welcoming and whimsical place for all fandoms! Whether this is your first steampunk event or you’re a veteran\, Steampunk Con is the must-see event of 2019.\nBecause it’s ‘More than just brown goth’!
URL:https://comiconadventures.com/event/steampunk-con-2019/
LOCATION:Radisson Hotel Piscataway-Somerset\, 21 Kingsbridge Rd.\, Piscataway\, NJ\, 08854\, United States
CATEGORIES:Steampunk Conventions
ATTACH;FMTTYPE=image/jpeg:https://comiconadventures.com/wp-content/uploads/2019/04/Steampunk-Con-2019.jpg
END:VEVENT
BEGIN:VEVENT
DTSTART;TZID=America/New_York:20190607T100000
DTEND;TZID=America/New_York:20190609T170000
DTSTAMP:20260424T222236
CREATED:20190417T040051Z
LAST-MODIFIED:20190417T040051Z
UID:6651-1559901600-1560099600@comiconadventures.com
SUMMARY:Cogs & Corsets 2019
DESCRIPTION:The Cogs & Corsets festival takes place throughout six square blocks of historic Downtown Bloomington. This area is home to over 90 shops\, galleries\, and restaurants… many in historic buildings with ties to Abraham Lincoln. The galleries will be featuring local artists’ new work and even hosting visiting artists whose pieces exude that Steampunk vibe. The Museum of History will be the site of history presentations and our Tea Room\, and for 2019 the gorgeous historic Bloomington Center for the Performing Arts will be part of the action. While the planning for 2019 is still in progress\, we do know we’ll have the entertainment\, tours\, contests\, workshops (and of course\, tea!) that you’ve come to enjoy. All indicators are that 2019 will be even bigger and more exciting… we can’t wait to see you here!
URL:https://comiconadventures.com/event/cogs-corsets-2019/
LOCATION:Downtown Bloomington\, 110 E Washington St\, Bloomington\, IL\, 61701\, United States
CATEGORIES:Steampunk Conventions
ATTACH;FMTTYPE=image/png:https://comiconadventures.com/wp-content/uploads/2019/04/Cogs-Corsets-2019.png
END:VEVENT
BEGIN:VEVENT
DTSTART;TZID=America/New_York:20190530T100000
DTEND;TZID=America/New_York:20190603T170000
DTSTAMP:20260424T222236
CREATED:20190417T041207Z
LAST-MODIFIED:20190417T041207Z
UID:6786-1559210400-1559581200@comiconadventures.com
SUMMARY:Steampunk NZ Festival 2019
DESCRIPTION:The Premier and longest running Steampunk event of the Southern Hemisphere is based in the New Zealand Steampunk capital; Oamaru\, New Zealand.
URL:https://comiconadventures.com/event/steampunk-nz-festival-2019/
LOCATION:Oamaru Club\, 32 Severn St.\, Oamaru\, OA\, 9400\, New Zealand
CATEGORIES:Steampunk Conventions
ATTACH;FMTTYPE=image/jpeg:https://comiconadventures.com/wp-content/uploads/2019/04/Steampunk-NZ-Festival-2019.jpg
END:VEVENT
BEGIN:VEVENT
DTSTART;TZID=America/New_York:20190517T100000
DTEND;TZID=America/New_York:20190519T170000
DTSTAMP:20260424T222236
CREATED:20190412T031723Z
LAST-MODIFIED:20190412T031723Z
UID:6465-1558087200-1558285200@comiconadventures.com
SUMMARY:C.O.G.S. Expo 2019
DESCRIPTION:Steampunk Event \nThe Community Organized Gathering of Steampunks (C.O.G.S.) Foundation\, an educational nonprofit organization\, brings back the C.O.G.S. Expo for a second year! Formerly in Piscataway\, NJ\, this is an event for and by the Steampunk community! Now being held in a castle in Parsippany\, the event continues to grow! 2019 theme is Victorian Monsters and Science Fiction Legends.\nMay Your Cogs Never Rust!
URL:https://comiconadventures.com/event/c-o-g-s-expo-2019/
LOCATION:Sheraton Parsippany Hotel\, 199 Smith Rd.\, Parsippany\, NJ\, 07054\, United States
CATEGORIES:Steampunk Conventions
ATTACH;FMTTYPE=image/jpeg:https://comiconadventures.com/wp-content/uploads/2019/04/C.O.G.S.-Expo-2019.jpg
END:VEVENT
BEGIN:VEVENT
DTSTART;TZID=America/New_York:20190412T100000
DTEND;TZID=America/New_York:20190414T170000
DTSTAMP:20260424T222236
CREATED:20190409T034459Z
LAST-MODIFIED:20190409T034459Z
UID:6089-1555063200-1555261200@comiconadventures.com
SUMMARY:Gaslight Gathering 2019
DESCRIPTION:Steampunk Event \nGaslight Gathering is a steampunk & Victoriana convention based in San Diego\, CA. Created in collaboration with makers\, musicians\, artists and fans of steampunk. \nOur mission: to bring a weekend long experience filled with art\, costumes\, entertainment\, and exhibitors. Come participate in the event that has been steaming on for 9 years!
URL:https://comiconadventures.com/event/gaslight-gathering-2019/
LOCATION:Handlery Hotel San Diego\, 950 Hotel Cir N\, San Diego\, CA\, 92108\, United States
CATEGORIES:Steampunk Conventions
ATTACH;FMTTYPE=image/jpeg:https://comiconadventures.com/wp-content/uploads/2019/04/Gaslight-Gathering-2019.jpg
END:VEVENT
BEGIN:VEVENT
DTSTART;TZID=America/New_York:20190309T100000
DTEND;TZID=America/New_York:20190309T170000
DTSTAMP:20260424T222236
CREATED:20190729T040151Z
LAST-MODIFIED:20190729T040151Z
UID:9176-1552125600-1552150800@comiconadventures.com
SUMMARY:Brass Ring Academy and Cabaret 2019
DESCRIPTION:Steampunk Event \nWelcome to the Sixth year of our splendid benefit event\, Brass Ring Academy and Cabaret! We’ve danced and laughed and learned and created and raised thousands of dollars for the New England Carousel Museum so far\, and this year promises to be even better!
URL:https://comiconadventures.com/event/brass-ring-academy-and-cabaret-2019/
LOCATION:New England Carousel Museum\, 95 Riverside Ave.\, Bristol\, CT\, 06010\, United States
CATEGORIES:Steampunk Conventions
ATTACH;FMTTYPE=image/jpeg:https://comiconadventures.com/wp-content/uploads/2019/07/brass-ring.jpeg
END:VEVENT
BEGIN:VEVENT
DTSTART;TZID=America/New_York:20190308T100000
DTEND;TZID=America/New_York:20190310T170000
DTSTAMP:20260424T222236
CREATED:20190729T020914Z
LAST-MODIFIED:20190729T020914Z
UID:9135-1552039200-1552237200@comiconadventures.com
SUMMARY:Geneva Steam Convention 2019
DESCRIPTION:Steampunk Event \nJoin us to explore the myths and legends of the deep oceans.\nNothing tempts the Victorian soul more than myths or legends. And the mystery of the sea has captured the hearts of historians as far back as man has set eyes upon the hypnotic waves of the ocean. What beasts and creatures live deep down into the cold shimmering waters? With the true passion of a neoclassic Victorian\, we tempt you to delve into the depths with us and see what steampunk inspiration lurks under the sea for you. Are you willing to dive in?
URL:https://comiconadventures.com/event/geneva-steam-convention-2019/
LOCATION:Lake Lawn Resort\, 2400 Geneva St.\, Delavan\, WI\, 53115\, United States
CATEGORIES:Steampunk Conventions
ATTACH;FMTTYPE=image/jpeg:https://comiconadventures.com/wp-content/uploads/2019/07/Geneva-Steam-Convention-2019.jpeg
END:VEVENT
END:VCALENDAR